BEGIN:VCALENDAR
VERSION:2.0
PRODID:-//pretix//pretix.eu//
BEGIN:VTIMEZONE
TZID:Europe/Berlin
BEGIN:STANDARD
DTSTART:20001029T040000
RRULE:FREQ=YEARLY;BYDAY=-1SU;BYMONTH=10
TZNAME:CET
TZOFFSETFROM:+0200
TZOFFSETTO:+0100
END:STANDARD
BEGIN:DAYLIGHT
DTSTART:20000326T030000
RRULE:FREQ=YEARLY;BYDAY=-1SU;BYMONTH=3
TZNAME:CEST
TZOFFSETFROM:+0100
TZOFFSETTO:+0200
END:DAYLIGHT
END:VTIMEZONE
BEGIN:VEVENT
UID:pretix-ruw-STRBR26-2-0@tickets.ruw.de
DTSTART;TZID=Europe/Berlin:20261118T090000
DTEND;TZID=Europe/Berlin:20261118T180000
DESCRIPTION:Tickets: https://tickets.ruw.de/STRBR26-2/\nVeranstalter: Recht
  und Wirtschaft
DTSTAMP:20260425T130152Z
LOCATION:ATLANTIC Hotel Frakfurt\, Europa-Allee 68\, 60486 Frankfurt am Mai
 n
SUMMARY:PET – Private Equity Tax Conference 2026
END:VEVENT
END:VCALENDAR
