BEGIN:VCALENDAR
VERSION:2.0
PRODID:-//pretix//pretix.eu//
BEGIN:VTIMEZONE
TZID:Europe/Berlin
BEGIN:STANDARD
DTSTART:20001029T040000
RRULE:FREQ=YEARLY;BYDAY=-1SU;BYMONTH=10
TZNAME:CET
TZOFFSETFROM:+0200
TZOFFSETTO:+0100
END:STANDARD
BEGIN:DAYLIGHT
DTSTART:20000326T030000
RRULE:FREQ=YEARLY;BYDAY=-1SU;BYMONTH=3
TZNAME:CEST
TZOFFSETFROM:+0100
TZOFFSETTO:+0200
END:DAYLIGHT
END:VTIMEZONE
BEGIN:VEVENT
UID:pretix-ruw-KURVA2610-0@tickets.ruw.de
DTSTART;TZID=Europe/Berlin:20260917T090000
DTEND;TZID=Europe/Berlin:20260918T120000
DESCRIPTION:Tickets: https://tickets.ruw.de/KURVA2610/\nVeranstalter: Recht
  und Wirtschaft
DTSTAMP:20260421T201032Z
LOCATION:Webinar\, 17. und 18.09.2026\, jeweils von 09.00 bis 12:00h
SUMMARY:Compliance & KI 2.0 - Das Update 17./18. September 2026
END:VEVENT
END:VCALENDAR
