BEGIN:VCALENDAR
VERSION:2.0
PRODID:-//pretix//pretix.eu//
BEGIN:VTIMEZONE
TZID:Europe/Berlin
BEGIN:STANDARD
DTSTART:20001029T040000
RRULE:FREQ=YEARLY;BYDAY=-1SU;BYMONTH=10
TZNAME:CET
TZOFFSETFROM:+0200
TZOFFSETTO:+0100
END:STANDARD
BEGIN:DAYLIGHT
DTSTART:20000326T030000
RRULE:FREQ=YEARLY;BYDAY=-1SU;BYMONTH=3
TZNAME:CEST
TZOFFSETFROM:+0100
TZOFFSETTO:+0200
END:DAYLIGHT
END:VTIMEZONE
BEGIN:VEVENT
UID:pretix-ruw-INH26-10-0@tickets.ruw.de
DTSTART;TZID=Europe/Berlin:20260609T150000
DTEND;TZID=Europe/Berlin:20260609T170000
DESCRIPTION:Tickets: https://tickets.ruw.de/INH26-10/\nVeranstalter: Recht 
 und Wirtschaft
DTSTAMP:20260423T151158Z
SUMMARY:BB In-house Series: Compliance in Tax & Finance - Was gilt es bei d
 er Archivierung von E-Rechnungen und E-Mails zu beachten
END:VEVENT
END:VCALENDAR
