BEGIN:VCALENDAR
VERSION:2.0
PRODID:-//pretix//pretix.eu//
BEGIN:VTIMEZONE
TZID:Europe/Berlin
BEGIN:STANDARD
DTSTART:20001029T040000
RRULE:FREQ=YEARLY;BYDAY=-1SU;BYMONTH=10
TZNAME:CET
TZOFFSETFROM:+0200
TZOFFSETTO:+0100
END:STANDARD
BEGIN:DAYLIGHT
DTSTART:20000326T030000
RRULE:FREQ=YEARLY;BYDAY=-1SU;BYMONTH=3
TZNAME:CEST
TZOFFSETFROM:+0100
TZOFFSETTO:+0200
END:DAYLIGHT
END:VTIMEZONE
BEGIN:VEVENT
UID:pretix-ruw-DIT263-0@tickets.ruw.de
DTSTART;TZID=Europe/Berlin:20260611T090000
DTEND;TZID=Europe/Berlin:20260611T180000
DESCRIPTION:Tickets: https://tickets.ruw.de/DIT263/\nVeranstalter: Recht un
 d Wirtschaft
DTSTAMP:20260425T170207Z
LOCATION:GvW Graf von Westphalen\, Nymphenburger Str. 64\, 80335 München
SUMMARY:1. Münchner Data-Litigation-Forum 2026
END:VEVENT
END:VCALENDAR
