BEGIN:VCALENDAR
VERSION:2.0
PRODID:-//pretix//pretix.eu//
BEGIN:VTIMEZONE
TZID:Europe/Berlin
BEGIN:STANDARD
DTSTART:20001029T040000
RRULE:FREQ=YEARLY;BYDAY=-1SU;BYMONTH=10
TZNAME:CET
TZOFFSETFROM:+0200
TZOFFSETTO:+0100
END:STANDARD
BEGIN:DAYLIGHT
DTSTART:20000326T030000
RRULE:FREQ=YEARLY;BYDAY=-1SU;BYMONTH=3
TZNAME:CEST
TZOFFSETFROM:+0100
TZOFFSETTO:+0200
END:DAYLIGHT
END:VTIMEZONE
BEGIN:VEVENT
UID:pretix-ruw-DIT2611-0@tickets.ruw.de
DTSTART;TZID=Europe/Berlin:20260618T100000
DTEND;TZID=Europe/Berlin:20260618T110000
DESCRIPTION:Tickets: https://tickets.ruw.de/DIT2611/\nVeranstalter: Recht u
 nd Wirtschaft
DTSTAMP:20260424T155510Z
LOCATION:Zoom
SUMMARY:VVT\, KI-Register und KI-Assistenz zur Realisierung von Synergien z
 wischen DSGVO und AI-Act
END:VEVENT
END:VCALENDAR
